BEGIN:VCALENDAR
VERSION:2.0
PRODID:-//Theatre Magnetic - ECPv6.15.20//NONSGML v1.0//EN
CALSCALE:GREGORIAN
METHOD:PUBLISH
X-ORIGINAL-URL:https://theatremagnetic.be
X-WR-CALDESC:Évènements pour Theatre Magnetic
REFRESH-INTERVAL;VALUE=DURATION:PT1H
X-Robots-Tag:noindex
X-PUBLISHED-TTL:PT1H
BEGIN:VTIMEZONE
TZID:Europe/Paris
BEGIN:DAYLIGHT
TZOFFSETFROM:+0100
TZOFFSETTO:+0200
TZNAME:CEST
DTSTART:20210328T010000
END:DAYLIGHT
BEGIN:STANDARD
TZOFFSETFROM:+0200
TZOFFSETTO:+0100
TZNAME:CET
DTSTART:20211031T010000
END:STANDARD
BEGIN:DAYLIGHT
TZOFFSETFROM:+0100
TZOFFSETTO:+0200
TZNAME:CEST
DTSTART:20220327T010000
END:DAYLIGHT
BEGIN:STANDARD
TZOFFSETFROM:+0200
TZOFFSETTO:+0100
TZNAME:CET
DTSTART:20221030T010000
END:STANDARD
BEGIN:DAYLIGHT
TZOFFSETFROM:+0100
TZOFFSETTO:+0200
TZNAME:CEST
DTSTART:20230326T010000
END:DAYLIGHT
BEGIN:STANDARD
TZOFFSETFROM:+0200
TZOFFSETTO:+0100
TZNAME:CET
DTSTART:20231029T010000
END:STANDARD
END:VTIMEZONE
BEGIN:VEVENT
DTSTART;TZID=Europe/Paris:20220228T080000
DTEND;TZID=Europe/Paris:20220311T170000
DTSTAMP:20260422T035113
CREATED:20220221T141936Z
LAST-MODIFIED:20220221T141936Z
UID:1008-1646035200-1647018000@theatremagnetic.be
SUMMARY:3 petits cochons + et les 7 nains
DESCRIPTION:
URL:https://theatremagnetic.be/event/3-petits-cochons-et-les-7-nains-3/
LOCATION:LA ROSE DES VENTS – SCÈNE  NATIONALE  LILLE METROPOLE\, Boulevard Van Gogh\,  Villeneuve d'Ascq\, 59650\, France
CATEGORIES:3 Petits Cochons,et les 7 nains,Tous les spectacles
END:VEVENT
END:VCALENDAR