BEGIN:VCALENDAR
VERSION:2.0
PRODID:-//Theatre Magnetic - ECPv6.15.20//NONSGML v1.0//EN
CALSCALE:GREGORIAN
METHOD:PUBLISH
X-ORIGINAL-URL:https://theatremagnetic.be
X-WR-CALDESC:Évènements pour Theatre Magnetic
REFRESH-INTERVAL;VALUE=DURATION:PT1H
X-Robots-Tag:noindex
X-PUBLISHED-TTL:PT1H
BEGIN:VTIMEZONE
TZID:Europe/Paris
BEGIN:DAYLIGHT
TZOFFSETFROM:+0100
TZOFFSETTO:+0200
TZNAME:CEST
DTSTART:20160327T010000
END:DAYLIGHT
BEGIN:STANDARD
TZOFFSETFROM:+0200
TZOFFSETTO:+0100
TZNAME:CET
DTSTART:20161030T010000
END:STANDARD
BEGIN:DAYLIGHT
TZOFFSETFROM:+0100
TZOFFSETTO:+0200
TZNAME:CEST
DTSTART:20170326T010000
END:DAYLIGHT
BEGIN:STANDARD
TZOFFSETFROM:+0200
TZOFFSETTO:+0100
TZNAME:CET
DTSTART:20171029T010000
END:STANDARD
BEGIN:DAYLIGHT
TZOFFSETFROM:+0100
TZOFFSETTO:+0200
TZNAME:CEST
DTSTART:20180325T010000
END:DAYLIGHT
BEGIN:STANDARD
TZOFFSETFROM:+0200
TZOFFSETTO:+0100
TZNAME:CET
DTSTART:20181028T010000
END:STANDARD
END:VTIMEZONE
BEGIN:VEVENT
DTSTART;TZID=Europe/Paris:20170916T080000
DTEND;TZID=Europe/Paris:20171017T170000
DTSTAMP:20260425T024524
CREATED:20170830T133816Z
LAST-MODIFIED:20170830T133816Z
UID:188-1505548800-1508259600@theatremagnetic.be
SUMMARY:3 Petits cochons
DESCRIPTION:
URL:https://theatremagnetic.be/event/3-petits-cochons-73/
LOCATION:Festival Rue Barrée\, Lourdes\, 65100\, France
CATEGORIES:3 Petits Cochons,Tous les spectacles
END:VEVENT
END:VCALENDAR