BEGIN:VCALENDAR
VERSION:2.0
PRODID:-//Theatre Magnetic - ECPv6.15.20//NONSGML v1.0//EN
CALSCALE:GREGORIAN
METHOD:PUBLISH
X-WR-CALNAME:Theatre Magnetic
X-ORIGINAL-URL:https://theatremagnetic.be
X-WR-CALDESC:Évènements pour Theatre Magnetic
REFRESH-INTERVAL;VALUE=DURATION:PT1H
X-Robots-Tag:noindex
X-PUBLISHED-TTL:PT1H
BEGIN:VTIMEZONE
TZID:Europe/Paris
BEGIN:DAYLIGHT
TZOFFSETFROM:+0100
TZOFFSETTO:+0200
TZNAME:CEST
DTSTART:20150329T010000
END:DAYLIGHT
BEGIN:STANDARD
TZOFFSETFROM:+0200
TZOFFSETTO:+0100
TZNAME:CET
DTSTART:20151025T010000
END:STANDARD
BEGIN:DAYLIGHT
TZOFFSETFROM:+0100
TZOFFSETTO:+0200
TZNAME:CEST
DTSTART:20160327T010000
END:DAYLIGHT
BEGIN:STANDARD
TZOFFSETFROM:+0200
TZOFFSETTO:+0100
TZNAME:CET
DTSTART:20161030T010000
END:STANDARD
BEGIN:DAYLIGHT
TZOFFSETFROM:+0100
TZOFFSETTO:+0200
TZNAME:CEST
DTSTART:20170326T010000
END:DAYLIGHT
BEGIN:STANDARD
TZOFFSETFROM:+0200
TZOFFSETTO:+0100
TZNAME:CET
DTSTART:20171029T010000
END:STANDARD
END:VTIMEZONE
BEGIN:VEVENT
DTSTART;VALUE=DATE:20160918
DTEND;VALUE=DATE:20160919
DTSTAMP:20260425T203206
CREATED:20160525T151929Z
LAST-MODIFIED:20160525T151929Z
UID:105-1474156800-1474243199@theatremagnetic.be
SUMMARY:3 Petits cochons
DESCRIPTION:
URL:https://theatremagnetic.be/event/3-petits-cochons-36/
LOCATION:Festival Marionnette Houffalize\, Houffalize\, 6660\, Belgique
CATEGORIES:3 Petits Cochons,Tous les spectacles
END:VEVENT
END:VCALENDAR