BEGIN:VCALENDAR
VERSION:2.0
PRODID:-//Theatre Magnetic - ECPv6.15.20//NONSGML v1.0//EN
CALSCALE:GREGORIAN
METHOD:PUBLISH
X-ORIGINAL-URL:https://theatremagnetic.be
X-WR-CALDESC:Évènements pour Theatre Magnetic
REFRESH-INTERVAL;VALUE=DURATION:PT1H
X-Robots-Tag:noindex
X-PUBLISHED-TTL:PT1H
BEGIN:VTIMEZONE
TZID:Europe/Paris
BEGIN:DAYLIGHT
TZOFFSETFROM:+0100
TZOFFSETTO:+0200
TZNAME:CEST
DTSTART:20150329T010000
END:DAYLIGHT
BEGIN:STANDARD
TZOFFSETFROM:+0200
TZOFFSETTO:+0100
TZNAME:CET
DTSTART:20151025T010000
END:STANDARD
BEGIN:DAYLIGHT
TZOFFSETFROM:+0100
TZOFFSETTO:+0200
TZNAME:CEST
DTSTART:20160327T010000
END:DAYLIGHT
BEGIN:STANDARD
TZOFFSETFROM:+0200
TZOFFSETTO:+0100
TZNAME:CET
DTSTART:20161030T010000
END:STANDARD
BEGIN:DAYLIGHT
TZOFFSETFROM:+0100
TZOFFSETTO:+0200
TZNAME:CEST
DTSTART:20170326T010000
END:DAYLIGHT
BEGIN:STANDARD
TZOFFSETFROM:+0200
TZOFFSETTO:+0100
TZNAME:CET
DTSTART:20171029T010000
END:STANDARD
END:VTIMEZONE
BEGIN:VEVENT
DTSTART;TZID=Europe/Paris:20160721T080000
DTEND;TZID=Europe/Paris:20160724T170000
DTSTAMP:20260425T230646
CREATED:20160525T142556Z
LAST-MODIFIED:20160525T142556Z
UID:93-1469088000-1469379600@theatremagnetic.be
SUMMARY:3 Petits cochons
DESCRIPTION:
URL:https://theatremagnetic.be/event/3-petits-cochons-30/
LOCATION:Chalon dans la rue OFF\, Square Chabas\, Chalon-sur-Saone\, 71100\, France
CATEGORIES:3 Petits Cochons,Tous les spectacles
END:VEVENT
END:VCALENDAR