BEGIN:VCALENDAR
VERSION:2.0
PRODID:-//Theatre Magnetic - ECPv6.15.20//NONSGML v1.0//EN
CALSCALE:GREGORIAN
METHOD:PUBLISH
X-ORIGINAL-URL:https://theatremagnetic.be
X-WR-CALDESC:Évènements pour Theatre Magnetic
REFRESH-INTERVAL;VALUE=DURATION:PT1H
X-Robots-Tag:noindex
X-PUBLISHED-TTL:PT1H
BEGIN:VTIMEZONE
TZID:Europe/Paris
BEGIN:DAYLIGHT
TZOFFSETFROM:+0100
TZOFFSETTO:+0200
TZNAME:CEST
DTSTART:20150329T010000
END:DAYLIGHT
BEGIN:STANDARD
TZOFFSETFROM:+0200
TZOFFSETTO:+0100
TZNAME:CET
DTSTART:20151025T010000
END:STANDARD
BEGIN:DAYLIGHT
TZOFFSETFROM:+0100
TZOFFSETTO:+0200
TZNAME:CEST
DTSTART:20160327T010000
END:DAYLIGHT
BEGIN:STANDARD
TZOFFSETFROM:+0200
TZOFFSETTO:+0100
TZNAME:CET
DTSTART:20161030T010000
END:STANDARD
BEGIN:DAYLIGHT
TZOFFSETFROM:+0100
TZOFFSETTO:+0200
TZNAME:CEST
DTSTART:20170326T010000
END:DAYLIGHT
BEGIN:STANDARD
TZOFFSETFROM:+0200
TZOFFSETTO:+0100
TZNAME:CET
DTSTART:20171029T010000
END:STANDARD
END:VTIMEZONE
BEGIN:VEVENT
DTSTART;VALUE=DATE:20160528
DTEND;VALUE=DATE:20160530
DTSTAMP:20260426T014130
CREATED:20160329T121803Z
LAST-MODIFIED:20160329T121803Z
UID:80-1464393600-1464566399@theatremagnetic.be
SUMMARY:3 Petits cochons
DESCRIPTION:
URL:https://theatremagnetic.be/event/3-petits-cochons-25/
LOCATION:Festival PrinTemps de paroles PARC CULTUREL DE RENTILLY  Domaine de Rentilly\, 1 rue de l'Etang \,  Rentilly\, 77 607\, France
CATEGORIES:3 Petits Cochons,Tous les spectacles
END:VEVENT
END:VCALENDAR