BEGIN:VCALENDAR
VERSION:2.0
PRODID:-//Theatre Magnetic - ECPv6.15.20//NONSGML v1.0//EN
CALSCALE:GREGORIAN
METHOD:PUBLISH
X-WR-CALNAME:Theatre Magnetic
X-ORIGINAL-URL:https://theatremagnetic.be
X-WR-CALDESC:Évènements pour Theatre Magnetic
REFRESH-INTERVAL;VALUE=DURATION:PT1H
X-Robots-Tag:noindex
X-PUBLISHED-TTL:PT1H
BEGIN:VTIMEZONE
TZID:Europe/Paris
BEGIN:DAYLIGHT
TZOFFSETFROM:+0100
TZOFFSETTO:+0200
TZNAME:CEST
DTSTART:20160327T010000
END:DAYLIGHT
BEGIN:STANDARD
TZOFFSETFROM:+0200
TZOFFSETTO:+0100
TZNAME:CET
DTSTART:20161030T010000
END:STANDARD
BEGIN:DAYLIGHT
TZOFFSETFROM:+0100
TZOFFSETTO:+0200
TZNAME:CEST
DTSTART:20170326T010000
END:DAYLIGHT
BEGIN:STANDARD
TZOFFSETFROM:+0200
TZOFFSETTO:+0100
TZNAME:CET
DTSTART:20171029T010000
END:STANDARD
BEGIN:DAYLIGHT
TZOFFSETFROM:+0100
TZOFFSETTO:+0200
TZNAME:CEST
DTSTART:20180325T010000
END:DAYLIGHT
BEGIN:STANDARD
TZOFFSETFROM:+0200
TZOFFSETTO:+0100
TZNAME:CET
DTSTART:20181028T010000
END:STANDARD
END:VTIMEZONE
BEGIN:VEVENT
DTSTART;TZID=Europe/Paris:20170902T080000
DTEND;TZID=Europe/Paris:20170902T170000
DTSTAMP:20260425T024243
CREATED:20170830T131909Z
LAST-MODIFIED:20170830T131909Z
UID:178-1504339200-1504371600@theatremagnetic.be
SUMMARY:3 Petits cochons
DESCRIPTION:
URL:https://theatremagnetic.be/event/3-petits-cochons-69/
LOCATION:Festival rue dell’arte\, place de l'église\, Quessoy\, 22120\, France
CATEGORIES:3 Petits Cochons,Tous les spectacles
END:VEVENT
BEGIN:VEVENT
DTSTART;TZID=Europe/Paris:20170903T080000
DTEND;TZID=Europe/Paris:20170903T170000
DTSTAMP:20260425T024243
CREATED:20170830T132331Z
LAST-MODIFIED:20170830T132331Z
UID:180-1504425600-1504458000@theatremagnetic.be
SUMMARY:3 Petits cochons
DESCRIPTION:
URL:https://theatremagnetic.be/event/3-petits-cochons-70/
LOCATION:Festival rue d’elarte\, rue bel orient\, Moncontour\,  22510\, France
CATEGORIES:3 Petits Cochons,Tous les spectacles
END:VEVENT
BEGIN:VEVENT
DTSTART;TZID=Europe/Paris:20170906T080000
DTEND;TZID=Europe/Paris:20170906T170000
DTSTAMP:20260425T024243
CREATED:20170830T132706Z
LAST-MODIFIED:20170830T132706Z
UID:182-1504684800-1504717200@theatremagnetic.be
SUMMARY:3 Petits cochons
DESCRIPTION:
URL:https://theatremagnetic.be/event/3-petits-cochons-71/
LOCATION:Le Rabelais\, 21\, route de Frangy\, Meythet\, 74960\, France
CATEGORIES:3 Petits Cochons,Tous les spectacles
END:VEVENT
BEGIN:VEVENT
DTSTART;TZID=Europe/Paris:20170908T080000
DTEND;TZID=Europe/Paris:20170908T170000
DTSTAMP:20260425T024243
CREATED:20170830T133131Z
LAST-MODIFIED:20170830T133131Z
UID:184-1504857600-1504890000@theatremagnetic.be
SUMMARY:3 Petits cochons
DESCRIPTION:
URL:https://theatremagnetic.be/event/3-petits-cochons-72/
LOCATION:Espace culturel François Mitterand\, Canteleu\, 76380\, France
CATEGORIES:3 Petits Cochons,Tous les spectacles
END:VEVENT
BEGIN:VEVENT
DTSTART;TZID=Europe/Paris:20170910T080000
DTEND;TZID=Europe/Paris:20170910T170000
DTSTAMP:20260425T024243
CREATED:20170830T133509Z
LAST-MODIFIED:20170830T133509Z
UID:186-1505030400-1505062800@theatremagnetic.be
SUMMARY:3Petits cochons
DESCRIPTION:
URL:https://theatremagnetic.be/event/3petits-cochons/
LOCATION:Scène Nationale de Blois\, 2 Place Jean Jaurès\, BLOIS\, 41000\, France
CATEGORIES:3 Petits Cochons,Tous les spectacles
END:VEVENT
BEGIN:VEVENT
DTSTART;TZID=Europe/Paris:20170916T080000
DTEND;TZID=Europe/Paris:20171017T170000
DTSTAMP:20260425T024243
CREATED:20170830T133816Z
LAST-MODIFIED:20170830T133816Z
UID:188-1505548800-1508259600@theatremagnetic.be
SUMMARY:3 Petits cochons
DESCRIPTION:
URL:https://theatremagnetic.be/event/3-petits-cochons-73/
LOCATION:Festival Rue Barrée\, Lourdes\, 65100\, France
CATEGORIES:3 Petits Cochons,Tous les spectacles
END:VEVENT
BEGIN:VEVENT
DTSTART;TZID=Europe/Paris:20170924T080000
DTEND;TZID=Europe/Paris:20170924T170000
DTSTAMP:20260425T024243
CREATED:20170830T134341Z
LAST-MODIFIED:20170830T134341Z
UID:190-1506240000-1506272400@theatremagnetic.be
SUMMARY:3 Petits cochons
DESCRIPTION:
URL:https://theatremagnetic.be/event/3-petits-cochons-74/
LOCATION:Scènes Plurielles\, Wallers\, 59135\, France
CATEGORIES:3 Petits Cochons,Tous les spectacles
END:VEVENT
END:VCALENDAR