BEGIN:VCALENDAR
VERSION:2.0
PRODID:-//Theatre Magnetic - ECPv6.15.20//NONSGML v1.0//EN
CALSCALE:GREGORIAN
METHOD:PUBLISH
X-WR-CALNAME:Theatre Magnetic
X-ORIGINAL-URL:https://theatremagnetic.be
X-WR-CALDESC:Évènements pour Theatre Magnetic
REFRESH-INTERVAL;VALUE=DURATION:PT1H
X-Robots-Tag:noindex
X-PUBLISHED-TTL:PT1H
BEGIN:VTIMEZONE
TZID:Europe/Paris
BEGIN:DAYLIGHT
TZOFFSETFROM:+0100
TZOFFSETTO:+0200
TZNAME:CEST
DTSTART:20160327T010000
END:DAYLIGHT
BEGIN:STANDARD
TZOFFSETFROM:+0200
TZOFFSETTO:+0100
TZNAME:CET
DTSTART:20161030T010000
END:STANDARD
BEGIN:DAYLIGHT
TZOFFSETFROM:+0100
TZOFFSETTO:+0200
TZNAME:CEST
DTSTART:20170326T010000
END:DAYLIGHT
BEGIN:STANDARD
TZOFFSETFROM:+0200
TZOFFSETTO:+0100
TZNAME:CET
DTSTART:20171029T010000
END:STANDARD
BEGIN:DAYLIGHT
TZOFFSETFROM:+0100
TZOFFSETTO:+0200
TZNAME:CEST
DTSTART:20180325T010000
END:DAYLIGHT
BEGIN:STANDARD
TZOFFSETFROM:+0200
TZOFFSETTO:+0100
TZNAME:CET
DTSTART:20181028T010000
END:STANDARD
END:VTIMEZONE
BEGIN:VEVENT
DTSTART;VALUE=DATE:20170201
DTEND;VALUE=DATE:20170202
DTSTAMP:20260425T124411
CREATED:20170131T152547Z
LAST-MODIFIED:20170131T152741Z
UID:128-1485907200-1485993599@theatremagnetic.be
SUMMARY:3 Petits cochons
DESCRIPTION:
URL:https://theatremagnetic.be/event/3-petits-cochons-46/
LOCATION:propulse\, Bd Emile Jacqmain 111-115\, Bruxelles\, 1000\, Belgique
CATEGORIES:3 Petits Cochons,Tous les spectacles
END:VEVENT
BEGIN:VEVENT
DTSTART;VALUE=DATE:20170205
DTEND;VALUE=DATE:20170206
DTSTAMP:20260425T124411
CREATED:20170131T153951Z
LAST-MODIFIED:20170131T153951Z
UID:130-1486252800-1486339199@theatremagnetic.be
SUMMARY:3 Petits cochons
DESCRIPTION:
URL:https://theatremagnetic.be/event/3-petits-cochons-47/
LOCATION:Festival Méli Mélo\, Chemin du cassiot\, Canejan\, 33610\, France
CATEGORIES:3 Petits Cochons,Tous les spectacles
END:VEVENT
BEGIN:VEVENT
DTSTART;VALUE=DATE:20170209
DTEND;VALUE=DATE:20170210
DTSTAMP:20260425T124411
CREATED:20170131T155557Z
LAST-MODIFIED:20170131T155557Z
UID:132-1486598400-1486684799@theatremagnetic.be
SUMMARY:3 Petits cochons
DESCRIPTION:
URL:https://theatremagnetic.be/event/3-petits-cochons-48/
LOCATION:Salle Gérard Philipe – Espace culturel du Grand Turc\, 8\, rue Saint Denis\, La Ferté-Macé\, 61600\, France
CATEGORIES:3 Petits Cochons,Tous les spectacles
END:VEVENT
BEGIN:VEVENT
DTSTART;VALUE=DATE:20170210
DTEND;VALUE=DATE:20170211
DTSTAMP:20260425T124411
CREATED:20170131T160209Z
LAST-MODIFIED:20170131T160438Z
UID:134-1486684800-1486771199@theatremagnetic.be
SUMMARY:3 Petits cochons
DESCRIPTION:
URL:https://theatremagnetic.be/event/3-petits-cochons-49/
LOCATION:Villages en Scène\, Chalônnes-sur-Loire\, 49 290\, France
CATEGORIES:3 Petits Cochons,Tous les spectacles
END:VEVENT
BEGIN:VEVENT
DTSTART;VALUE=DATE:20170217
DTEND;VALUE=DATE:20170218
DTSTAMP:20260425T124411
CREATED:20170131T160718Z
LAST-MODIFIED:20170131T160718Z
UID:136-1487289600-1487375999@theatremagnetic.be
SUMMARY:3 Petits cochons
DESCRIPTION:
URL:https://theatremagnetic.be/event/3-petits-cochons-50/
LOCATION:Centre Culturel de Rixensart\, 38  Place Communale\, GENVAL\, 1332\, Belgique
CATEGORIES:3 Petits Cochons,Tous les spectacles
END:VEVENT
END:VCALENDAR