BEGIN:VCALENDAR
VERSION:2.0
PRODID:-//Theatre Magnetic - ECPv6.15.20//NONSGML v1.0//EN
CALSCALE:GREGORIAN
METHOD:PUBLISH
X-ORIGINAL-URL:https://theatremagnetic.be
X-WR-CALDESC:Évènements pour Theatre Magnetic
REFRESH-INTERVAL;VALUE=DURATION:PT1H
X-Robots-Tag:noindex
X-PUBLISHED-TTL:PT1H
BEGIN:VTIMEZONE
TZID:Europe/Paris
BEGIN:DAYLIGHT
TZOFFSETFROM:+0100
TZOFFSETTO:+0200
TZNAME:CEST
DTSTART:20150329T010000
END:DAYLIGHT
BEGIN:STANDARD
TZOFFSETFROM:+0200
TZOFFSETTO:+0100
TZNAME:CET
DTSTART:20151025T010000
END:STANDARD
BEGIN:DAYLIGHT
TZOFFSETFROM:+0100
TZOFFSETTO:+0200
TZNAME:CEST
DTSTART:20160327T010000
END:DAYLIGHT
BEGIN:STANDARD
TZOFFSETFROM:+0200
TZOFFSETTO:+0100
TZNAME:CET
DTSTART:20161030T010000
END:STANDARD
BEGIN:DAYLIGHT
TZOFFSETFROM:+0100
TZOFFSETTO:+0200
TZNAME:CEST
DTSTART:20170326T010000
END:DAYLIGHT
BEGIN:STANDARD
TZOFFSETFROM:+0200
TZOFFSETTO:+0100
TZNAME:CET
DTSTART:20171029T010000
END:STANDARD
END:VTIMEZONE
BEGIN:VEVENT
DTSTART;TZID=Europe/Paris:20160910T080000
DTEND;TZID=Europe/Paris:20160911T170000
DTSTAMP:20260425T191554
CREATED:20160826T154429Z
LAST-MODIFIED:20160826T154429Z
UID:122-1473494400-1473613200@theatremagnetic.be
SUMMARY:3 Petits cochons
DESCRIPTION:
URL:https://theatremagnetic.be/event/3-petits-cochons-44/
LOCATION:Cergy\, Soit !\, 3 place de l'Hôtel de ville\,  CERGY PONTOISE\, 95801\, France
CATEGORIES:3 Petits Cochons,Tous les spectacles
END:VEVENT
BEGIN:VEVENT
DTSTART;VALUE=DATE:20160914
DTEND;VALUE=DATE:20160915
DTSTAMP:20260425T191554
CREATED:20160525T151212Z
LAST-MODIFIED:20160525T151212Z
UID:101-1473811200-1473897599@theatremagnetic.be
SUMMARY:3 Petits cochons
DESCRIPTION:
URL:https://theatremagnetic.be/event/3-petits-cochons-34/
LOCATION:25ème édition du Festival Le Chainon Manquant\, Laval\, 53000\, France
CATEGORIES:3 Petits Cochons,Tous les spectacles
END:VEVENT
BEGIN:VEVENT
DTSTART;VALUE=DATE:20160917
DTEND;VALUE=DATE:20160918
DTSTAMP:20260425T191554
CREATED:20160525T151438Z
LAST-MODIFIED:20160525T151438Z
UID:103-1474070400-1474156799@theatremagnetic.be
SUMMARY:3 Petits cochons
DESCRIPTION:
URL:https://theatremagnetic.be/event/3-petits-cochons-35/
LOCATION:Houilles\, Houilles\, 78800\, France
CATEGORIES:3 Petits Cochons,Tous les spectacles
END:VEVENT
BEGIN:VEVENT
DTSTART;VALUE=DATE:20160918
DTEND;VALUE=DATE:20160919
DTSTAMP:20260425T191554
CREATED:20160525T151929Z
LAST-MODIFIED:20160525T151929Z
UID:105-1474156800-1474243199@theatremagnetic.be
SUMMARY:3 Petits cochons
DESCRIPTION:
URL:https://theatremagnetic.be/event/3-petits-cochons-36/
LOCATION:Festival Marionnette Houffalize\, Houffalize\, 6660\, Belgique
CATEGORIES:3 Petits Cochons,Tous les spectacles
END:VEVENT
BEGIN:VEVENT
DTSTART;VALUE=DATE:20160923
DTEND;VALUE=DATE:20160924
DTSTAMP:20260425T191554
CREATED:20160525T152339Z
LAST-MODIFIED:20160525T152339Z
UID:107-1474588800-1474675199@theatremagnetic.be
SUMMARY:3 Petits cochons
DESCRIPTION:
URL:https://theatremagnetic.be/event/3-petits-cochons-37/
LOCATION:Théâtre Paul Eluard\, 4 avenue de Villeneuve Saint-Georges\, Choisy-le-Roi\, 94600\, France
CATEGORIES:3 Petits Cochons,Tous les spectacles
END:VEVENT
END:VCALENDAR